BEGIN:VCALENDAR
VERSION:2.0
PRODID:-//99.84.102.113//NONSGML kigkonsult.se iCalcreator 2.26.9//
CALSCALE:GREGORIAN
METHOD:PUBLISH
X-WR-CALNAME:New Mexico Gaming Control Board
X-WR-CALDESC:The mission of the Gaming Control Board (GCB) Enforcement Divi
 sion is to ensure honesty and integrity in the New Mexico gaming industry 
 by protecting the public interest in promoting a legitimate gaming industr
 y that is free of corrupt and dishonest practices.
X-FROM-URL:https://www.nmgcb.org
X-WR-TIMEZONE:America/Denver
BEGIN:VTIMEZONE
TZID:America/Denver
X-LIC-LOCATION:America/Denver
BEGIN:STANDARD
DTSTART:20211107T020000
TZOFFSETFROM:-0600
TZOFFSETTO:-0700
RDATE:20221106T020000
TZNAME:MST
END:STANDARD
BEGIN:DAYLIGHT
DTSTART:20210314T020000
TZOFFSETFROM:-0700
TZOFFSETTO:-0600
RDATE:20220313T020000,20230312T020000
TZNAME:MDT
END:DAYLIGHT
END:VTIMEZONE
BEGIN:VEVENT
UID:ai1ec-6652@www.nmgcb.org
DTSTAMP:20210927T130910Z
CATEGORIES:
CONTACT:
DESCRIPTION:<div class='et-l et-l--post'>\n			<div class='et_builder_inner_con
 tent et_pb_gutters3'>\n		<p><a href='https://www.nmgcb.org/wp-content/upload
 s/2021/09/September-Agenda.pdf'>September Agenda</a></p>\n<p>***Please Mut
 e Your Devices***<br />\nTo access meeting via Microsoft Teams<br />\nTele
 phonically<br />\nPhone Number: 1-505-312-4308<br />\nConference ID: 828 4
 13 070#</p>\n<p>Link to join meeting through a Web Browser or the MS Teams
 <br />\nApplication https://teams.microsoft.com/l/meetupjoin/<br />\n19%3a
 meeting_ZWUxODJmZjEtODg5Mi00NzgxLWI2Y2EtOTI4MzVkNWIxZmFj%40thread.v2/0?<br
  />\ncontext=%7b%22Tid%22%3a%2204aa6bf4-d436-426f-bfa4-04b7a70e60ff%22%2c%
 22Oid%22%3a%22c99f99fc-<br />\n5a8a-47ab-8f6e-c7b4dc8de83e%22%7d</p>\n\n		</
 div>\n	</div>
DTSTART;TZID=America/Denver:20210922T090000
DTEND;TZID=America/Denver:20210922T234500
SEQUENCE:0
SUMMARY:September Board Meeting Agenda
URL:https://www.nmgcb.org/event/september-board-meeting-agenda/
X-COST-TYPE:free
END:VEVENT
END:VCALENDAR
