BEGIN:VCALENDAR
VERSION:2.0
PRODID:-//52.85.151.93//NONSGML kigkonsult.se iCalcreator 2.26.9//
CALSCALE:GREGORIAN
METHOD:PUBLISH
X-WR-CALNAME:New Mexico Gaming Control Board
X-WR-CALDESC:The mission of the Gaming Control Board (GCB) Enforcement Divi
 sion is to ensure honesty and integrity in the New Mexico gaming industry 
 by protecting the public interest in promoting a legitimate gaming industr
 y that is free of corrupt and dishonest practices.
X-FROM-URL:https://www.nmgcb.org
X-WR-TIMEZONE:America/Denver
BEGIN:VTIMEZONE
TZID:America/Denver
X-LIC-LOCATION:America/Denver
BEGIN:STANDARD
DTSTART:20211107T020000
TZOFFSETFROM:-0600
TZOFFSETTO:-0700
RDATE:20221106T020000
TZNAME:MST
END:STANDARD
BEGIN:DAYLIGHT
DTSTART:20210314T020000
TZOFFSETFROM:-0700
TZOFFSETTO:-0600
RDATE:20220313T020000,20230312T020000
TZNAME:MDT
END:DAYLIGHT
END:VTIMEZONE
BEGIN:VEVENT
UID:ai1ec-6551@www.nmgcb.org
DTSTAMP:20210927T042029Z
CATEGORIES:
CONTACT:
DESCRIPTION:Updated August 31\, 2021 Agenda\nTelephonically\nNumber: 1-505-
 312-4308\nConference ID: 316 300 888#\nor Use the link below to join throu
 gh a Web Browser or the MS Teams\nApplication https://teams.microsoft.com/
 l/meetupjoin/19:meeting_OThlZjc3NzAtN2JiYy00ZmI2LThjMGMtMDM2NzJlOWE1NTdk@t
 hread.v2/0?\ncontext=%7B%22Tid%22:%2204aa6bf4-d436-426f-bfa4-\n04b7a70e60f
 f%22\,%22Oid%22:%22c99f99fc-5a8a-47ab-8f6e-c7b4dc8de83e%22%7D
DTSTART;TZID=America/Denver:20210831T090000
DTEND;TZID=America/Denver:20210831T234500
SEQUENCE:0
SUMMARY:August 31st Special Board Meeting Agenda
URL:https://www.nmgcb.org/event/august-31st-special-board-meeting-agenda/
X-COST-TYPE:free
X-ALT-DESC;FMTTYPE=text/html:<!DOCTYPE HTML PUBLIC '-//W3C//DTD HTML 3.2//E
 N'>\\n<HTML>\\n<HEAD>\\n<TITLE></TITLE>\\n</HEAD>\\n<BODY><div class='et-l
  et-l--post'>\n			<div class='et_builder_inner_content et_pb_gutters3'>\n		<p><
 a href='https://www.nmgcb.org/wp-content/uploads/2021/08/Updated-August-31
 -2021-Agenda.pdf'>Updated August 31\, 2021 Agenda</a></p>\n<p>Telephonical
 ly<br />\nNumber: 1-505-312-4308<br />\nConference ID: 316 300 888#<br />
 \nor Use the link below to join through a Web Browser or the MS Teams<br /
 >\nApplication https://teams.microsoft.com/l/meetupjoin/19:meeting_OThlZjc
 3NzAtN2JiYy00ZmI2LThjMGMtMDM2NzJlOWE1NTdk@thread.v2/0?<br />\ncontext=%7B%
 22Tid%22:%2204aa6bf4-d436-426f-bfa4-<br />\n04b7a70e60ff%22\,%22Oid%22:%22
 c99f99fc-5a8a-47ab-8f6e-c7b4dc8de83e%22%7D</p>\n\n		</div>\n	</div>\n	</BODY><
 /HTML>
END:VEVENT
END:VCALENDAR
