BEGIN:VCALENDAR
VERSION:2.0
PRODID:-//13.226.38.28//NONSGML kigkonsult.se iCalcreator 2.26.9//
CALSCALE:GREGORIAN
METHOD:PUBLISH
X-WR-CALNAME:New Mexico Gaming Control Board
X-WR-CALDESC:The mission of the Gaming Control Board (GCB) Enforcement Divi
 sion is to ensure honesty and integrity in the New Mexico gaming industry 
 by protecting the public interest in promoting a legitimate gaming industr
 y that is free of corrupt and dishonest practices.
X-FROM-URL:https://www.nmgcb.org
X-WR-TIMEZONE:America/Denver
BEGIN:VTIMEZONE
TZID:America/Denver
X-LIC-LOCATION:America/Denver
BEGIN:STANDARD
DTSTART:20211107T020000
TZOFFSETFROM:-0600
TZOFFSETTO:-0700
RDATE:20221106T020000
TZNAME:MST
END:STANDARD
BEGIN:DAYLIGHT
DTSTART:20210314T020000
TZOFFSETFROM:-0700
TZOFFSETTO:-0600
RDATE:20220313T020000,20230312T020000
TZNAME:MDT
END:DAYLIGHT
END:VTIMEZONE
BEGIN:VEVENT
UID:ai1ec-6360@www.nmgcb.org
DTSTAMP:20210925T012259Z
CATEGORIES:
CONTACT:
DESCRIPTION:May 10th Special Board Meeting Agenda\nTo access meeting via Mi
 crosoft Teams\nTelephonically\nNumber: 1-505-312-4308\nConference ID: 221 
 268 823#\nor Use the link below to join through a Web Browser or the MS Te
 ams\nApplication\nhttps://teams.microsoft.com/l/meetupjoin/\n19:meeting_NG
 U2ZjM2ZjEtOGVmMy00ZDUyLWEzYTEtODg5MTc0MjM0NDkw@thread.v2/0?\ncontext=%7B%2
 2Tid%22:%2204aa6bf4-d436-426f-bfa4-\n04b7a70e60ff%22\,%22Oid%22:%22c99f99f
 c-5a8a-47ab-8f6ec7b4dc8de83e%\n22%7D
DTSTART;TZID=America/Denver:20210510T090000
DTEND;TZID=America/Denver:20210510T234500
SEQUENCE:0
SUMMARY:May 10th Special Board Meeting Agenda
URL:https://www.nmgcb.org/event/may-10th-special-board-meeting-agenda/
X-COST-TYPE:free
X-ALT-DESC;FMTTYPE=text/html:<!DOCTYPE HTML PUBLIC '-//W3C//DTD HTML 3.2//E
 N'>\\n<HTML>\\n<HEAD>\\n<TITLE></TITLE>\\n</HEAD>\\n<BODY><div class='et-l
  et-l--post'>\n			<div class='et_builder_inner_content et_pb_gutters3'>\n		<p><
 a href='https://www.nmgcb.org/wp-content/uploads/2021/05/May-10th-Special-
 Board-Meeting-Agenda-1.pdf'>May 10th Special Board Meeting Agenda</a></p>
 \n<p>To access meeting via Microsoft Teams<br />\nTelephonically<br />\nNu
 mber: 1-505-312-4308<br />\nConference ID: 221 268 823#<br />\nor Use the 
 link below to join through a Web Browser or the MS Teams<br />\nApplicatio
 n<br />\nhttps://teams.microsoft.com/l/meetupjoin/<br />\n19:meeting_NGU2Z
 jM2ZjEtOGVmMy00ZDUyLWEzYTEtODg5MTc0MjM0NDkw@thread.v2/0?<br />\ncontext=%7
 B%22Tid%22:%2204aa6bf4-d436-426f-bfa4-<br />\n04b7a70e60ff%22\,%22Oid%22:%
 22c99f99fc-5a8a-47ab-8f6ec7b4dc8de83e%<br />\n22%7D</p>\n\n		</div>\n	</div>
 \n	</BODY></HTML>
END:VEVENT
END:VCALENDAR
