BEGIN:VCALENDAR
VERSION:2.0
PRODID:-//52.85.151.93//NONSGML kigkonsult.se iCalcreator 2.26.9//
CALSCALE:GREGORIAN
METHOD:PUBLISH
X-WR-CALNAME:New Mexico Gaming Control Board
X-WR-CALDESC:The mission of the Gaming Control Board (GCB) Enforcement Divi
 sion is to ensure honesty and integrity in the New Mexico gaming industry 
 by protecting the public interest in promoting a legitimate gaming industr
 y that is free of corrupt and dishonest practices.
X-FROM-URL:https://www.nmgcb.org
X-WR-TIMEZONE:America/Denver
BEGIN:VTIMEZONE
TZID:America/Denver
X-LIC-LOCATION:America/Denver
BEGIN:STANDARD
DTSTART:20211107T020000
TZOFFSETFROM:-0600
TZOFFSETTO:-0700
RDATE:20221106T020000
TZNAME:MST
END:STANDARD
BEGIN:DAYLIGHT
DTSTART:20210314T020000
TZOFFSETFROM:-0700
TZOFFSETTO:-0600
RDATE:20220313T020000,20230312T020000
TZNAME:MDT
END:DAYLIGHT
END:VTIMEZONE
BEGIN:VEVENT
UID:ai1ec-6210@www.nmgcb.org
DTSTAMP:20210923T225949Z
CATEGORIES:
CONTACT:
DESCRIPTION:March Agenda – Final (1)
DTSTART;TZID=America/Denver:20210317T090000
DTEND;TZID=America/Denver:20210317T230000
SEQUENCE:0
SUMMARY:March Board Agenda
URL:https://www.nmgcb.org/event/march-board-agenda/
X-COST-TYPE:free
X-ALT-DESC;FMTTYPE=text/html:<!DOCTYPE HTML PUBLIC '-//W3C//DTD HTML 3.2//E
 N'>\\n<HTML>\\n<HEAD>\\n<TITLE></TITLE>\\n</HEAD>\\n<BODY><div class='et-l
  et-l--post'>\n			<div class='et_builder_inner_content et_pb_gutters3'>\n		<p><
 a href='https://www.nmgcb.org/wp-content/uploads/2021/03/March-Agenda-Fina
 l-1.pdf'>March Agenda – Final (1)</a></p>\n\n		</div>\n	</div>\n	</BODY></HTML
 >
END:VEVENT
END:VCALENDAR
